BEGIN:VCALENDAR
VERSION:2.0
PRODID:-//Musikhof-Wolfsburg e.V. - ECPv6.15.20//NONSGML v1.0//EN
CALSCALE:GREGORIAN
METHOD:PUBLISH
X-WR-CALNAME:Musikhof-Wolfsburg e.V.
X-ORIGINAL-URL:https://musikhof-wob.de
X-WR-CALDESC:Veranstaltungen für Musikhof-Wolfsburg e.V.
REFRESH-INTERVAL;VALUE=DURATION:PT1H
X-Robots-Tag:noindex
X-PUBLISHED-TTL:PT1H
BEGIN:VTIMEZONE
TZID:Europe/Berlin
BEGIN:DAYLIGHT
TZOFFSETFROM:+0100
TZOFFSETTO:+0200
TZNAME:CEST
DTSTART:20250330T010000
END:DAYLIGHT
BEGIN:STANDARD
TZOFFSETFROM:+0200
TZOFFSETTO:+0100
TZNAME:CET
DTSTART:20251026T010000
END:STANDARD
BEGIN:DAYLIGHT
TZOFFSETFROM:+0100
TZOFFSETTO:+0200
TZNAME:CEST
DTSTART:20260329T010000
END:DAYLIGHT
BEGIN:STANDARD
TZOFFSETFROM:+0200
TZOFFSETTO:+0100
TZNAME:CET
DTSTART:20261025T010000
END:STANDARD
BEGIN:DAYLIGHT
TZOFFSETFROM:+0100
TZOFFSETTO:+0200
TZNAME:CEST
DTSTART:20270328T010000
END:DAYLIGHT
BEGIN:STANDARD
TZOFFSETFROM:+0200
TZOFFSETTO:+0100
TZNAME:CET
DTSTART:20271031T010000
END:STANDARD
END:VTIMEZONE
BEGIN:VEVENT
DTSTART;TZID=Europe/Berlin:20260425T200000
DTEND;TZID=Europe/Berlin:20260425T233000
DTSTAMP:20260425T013532
CREATED:20260129T092053Z
LAST-MODIFIED:20260129T101414Z
UID:12551-1777147200-1777159800@musikhof-wob.de
SUMMARY:Tickets & Infos Easy Bundle
DESCRIPTION:„10 Jahre Easy Bundle\, live und laut„ \n\n\n\n \n\n\n\nEintritts-Preise15\,00€ Abendkasse12\,00€ Vorverkauf zzgl. Ticketgebühren \n\n\n\n \n\n\n\n⚠️ ACHTUNG ⚠️Auf unserem Ticketportal eventim-light.de wird zusätzlich eine Ticketgebühr fällig.Dieser übernimmt der Käufer selbst. \n\n\n\n\n\n\n\n\n\n\n\n\n\nInstagram\n\nYouTube\n\nFacebook\n\nWordPress\n\n\n\nSeit ihrer Gründung im Jahr 2016 haben sich Easy Bundle aus dem Raum Gifhorn und Wolfsburg als feste Größe in der regionalen Rock-Szene etabliert. Die Band steht für handgemachte Rock- und Pop-Cover-Musik\, inspiriert von den großen Hits der 80er und 90er Jahre\, ergänzt durch ausgewählte Klassiker aus anderen Jahrzehnten. Ob klassischer Rock ’n’ Roll\, kraftvolle Balladen oder mitreißende Rocksongs – Easy Bundle bringt jede Bühne zum Beben und sorgt für Stimmung pur. Ihre klare\, gitarrenorientierte Performance verleiht jedem Song eine eigenständige Easy Bundle-DNA und macht jeden Auftritt zu einem besonderen Erlebnis.Die Band besteht aus fünf leidenschaftlichen Musikern mit Frontfrau Monika Brunstein und dem Gitarren-/Gesangsposten von Markus Kühn sowie ihren Mitstreitern Jan-Lukon Stowasser (Gitarre)\, Michael Patzer (Bass) und Lars Becker (Schlagzeug). \n\n\n\nSeid dabei\, wenn Easy Bundle das Jubiläum ihrer Bandgeschichte mit einem energiegeladenen Konzert feiert – ein Abend voller Rock-Klassiker\, guter Laune und leidenschaftlicher Live-Musik!
URL:https://musikhof-wob.de/event/tickets-infos-easy-bundle/
ATTACH;FMTTYPE=image/png:https://musikhof-wob.de/wp-content/uploads/2026/01/26.04.25__Easy-Bundle_Face-1.png
END:VEVENT
END:VCALENDAR