BEGIN:VCALENDAR
VERSION:2.0
PRODID:-//Musikhof-Wolfsburg e.V. - ECPv6.15.20//NONSGML v1.0//EN
CALSCALE:GREGORIAN
METHOD:PUBLISH
X-ORIGINAL-URL:https://musikhof-wob.de
X-WR-CALDESC:Veranstaltungen für Musikhof-Wolfsburg e.V.
REFRESH-INTERVAL;VALUE=DURATION:PT1H
X-Robots-Tag:noindex
X-PUBLISHED-TTL:PT1H
BEGIN:VTIMEZONE
TZID:Europe/Berlin
BEGIN:DAYLIGHT
TZOFFSETFROM:+0100
TZOFFSETTO:+0200
TZNAME:CEST
DTSTART:20250330T010000
END:DAYLIGHT
BEGIN:STANDARD
TZOFFSETFROM:+0200
TZOFFSETTO:+0100
TZNAME:CET
DTSTART:20251026T010000
END:STANDARD
BEGIN:DAYLIGHT
TZOFFSETFROM:+0100
TZOFFSETTO:+0200
TZNAME:CEST
DTSTART:20260329T010000
END:DAYLIGHT
BEGIN:STANDARD
TZOFFSETFROM:+0200
TZOFFSETTO:+0100
TZNAME:CET
DTSTART:20261025T010000
END:STANDARD
BEGIN:DAYLIGHT
TZOFFSETFROM:+0100
TZOFFSETTO:+0200
TZNAME:CEST
DTSTART:20270328T010000
END:DAYLIGHT
BEGIN:STANDARD
TZOFFSETFROM:+0200
TZOFFSETTO:+0100
TZNAME:CET
DTSTART:20271031T010000
END:STANDARD
END:VTIMEZONE
BEGIN:VEVENT
DTSTART;TZID=Europe/Berlin:20261205T200000
DTEND;TZID=Europe/Berlin:20261205T230000
DTSTAMP:20260423T115655
CREATED:20260410T090000Z
LAST-MODIFIED:20260407T113802Z
UID:12660-1796500800-1796511600@musikhof-wob.de
SUMMARY:Tickets & Infos The Gems
DESCRIPTION:Slithering Through Europe 2026 \n\n\n\nHeavy Glam Rock \n\n\n\nEintritts-Preise35\,00€ Abendkasse29\,00€ Vorverkauf zzgl. Ticketgebühren \n\n\n\n \n\n\n\n⚠️ ACHTUNG ⚠️Auf unserem Ticketportal eventim-light.de wird zusätzlich eine Ticketgebühr fällig.Dieser übernimmt der Käufer selbst. \n\n\n\n\n\n\n\n\n\n\n\n\n\nInstagram\n\nFacebook\n\nWordPress\n\nSpotify\n\n\n\nThe Gems\, ein schwedisches Rock‑Trio\, das Anfang 2023 gegründet wurde\, besteht aus den ehemaligen Thundermother‑Mitgliedern Guernica Mancini (Gesang)\, Emlee Johansson (Schlagzeug) und Mona „DeMona“ Lindgren (Gitarre/Bass). Ihr Debütalbum „Phoenix“ erschien am 26. Januar 2024 bei Napalm Records. Das Album verbindet klassische Rock‑Einflüsse mit moderner Produktion und starken visuellen Elementen – mit dem Ziel\, das Genre neu zu beleben. \n\n\n\nBevor sie The Gems gründeten\, tourte das Trio bereits mit Bands wie den Scorpions und spielte auf großen internationalen Festivals wie Wacken Open Air\, Sweden Rock Festival und Alcatraz Open Air. Ihre Erfahrung und ihr Engagement haben sie zu einer beeindruckenden Größe in der Rockszene gemacht. \n\n\n\nDie Mission von The Gems ist es\, die Musik\, die sie lieben\, weiterzuentwickeln – durch die Kombination aus klassischem Rock\, moderner Produktion und futuristischen Visuals. Ihre Debütsingle „Like a Phoenix“\, die im Sommer 2023 erschien\, erreichte Platz 2 der German Rock Radio Airplay Charts und zeigte sofort ihr Potenzial sowie ihre starke Resonanz bei Rockfans weltweit. \n\n\n\nNach der Veröffentlichung des Albums gingen The Gems auf Europatour und festigten damit ihren Ruf als aufstrebende Stars der modernen Classic‑Rock‑Szene. Ihr Einsatz\, ihre harte Arbeit und ihr Innovationsdrang treiben ihren Erfolg und ihren wachsenden Einfluss in der Musikindustrie weiter voran. \n\n\n\n \n\n\n\nEvoto
URL:https://musikhof-wob.de/event/tickets-infos-the-gems/
ATTACH;FMTTYPE=image/png:https://musikhof-wob.de/wp-content/uploads/2026/04/26.12.05_The-Gems_eventim.png
END:VEVENT
END:VCALENDAR